BEGIN:VCALENDAR
VERSION:2.0
PRODID:-//jEvents 2.0 for Joomla//EN
CALSCALE:GREGORIAN
METHOD:PUBLISH
BEGIN:VEVENT
UID:4e1a30305d68be500a9e43fbd6e17546
CATEGORIES:Veranstaltungen
CREATED:20251017T105758
SUMMARY:Abgabe der Jahreszeugnisse für die Einschreiber Schuljahr 2026/2027
DESCRIPTION:
DTSTAMP:20260425T163324
DTSTART:20260713T060000
DTEND:20260717T120000
SEQUENCE:0
TRANSP:OPAQUE
END:VEVENT
END:VCALENDAR