BEGIN:VCALENDAR
VERSION:2.0
PRODID:-//jEvents 2.0 for Joomla//EN
CALSCALE:GREGORIAN
METHOD:PUBLISH
BEGIN:VEVENT
UID:e63de1a5c441624ee058e717f76df77d
CATEGORIES:Veranstaltungen
CREATED:20251017T105637
SUMMARY:Verteilung der Zeugnisse - Beginn der Sommerferien
DESCRIPTION:
DTSTAMP:20260425T163557
DTSTART:20260710T070000
DTEND:20260710T080000
SEQUENCE:0
TRANSP:OPAQUE
END:VEVENT
END:VCALENDAR