BEGIN:VCALENDAR
VERSION:2.0
PRODID:-//jEvents 2.0 for Joomla//EN
CALSCALE:GREGORIAN
METHOD:PUBLISH
BEGIN:VEVENT
UID:6835be9d89a365a95f34d1c62313cc30
CATEGORIES:Veranstaltungen
CREATED:20251017T105547
SUMMARY:Schlussgottesdienst 
DESCRIPTION:
DTSTAMP:20260425T194938
DTSTART:20251017T060000
DTEND:20251017T070000
SEQUENCE:0
TRANSP:OPAQUE
END:VEVENT
END:VCALENDAR