BEGIN:VCALENDAR
VERSION:2.0
PRODID:-//jEvents 2.0 for Joomla//EN
CALSCALE:GREGORIAN
METHOD:PUBLISH
BEGIN:VEVENT
UID:1f36daf2b5eb415bfdd99551dd4d060a
CATEGORIES:Veranstaltungen
CREATED:20251017T105502
SUMMARY:Aufnahmeprüfungen für das Schuljahr 2026/2027
DESCRIPTION:
DTSTAMP:20260425T163316
DTSTART:20260708T060000
DTEND:20260708T150000
SEQUENCE:0
TRANSP:OPAQUE
END:VEVENT
END:VCALENDAR