BEGIN:VCALENDAR
VERSION:2.0
PRODID:-//jEvents 2.0 for Joomla//EN
CALSCALE:GREGORIAN
METHOD:PUBLISH
BEGIN:VEVENT
UID:f0c1e97c416f41de881c3386debdcf0d
CATEGORIES:Veranstaltungen
CREATED:20251017T105431
SUMMARY:Sommersportwoche 2.Klassen in Döbrich am Millstättersee
DESCRIPTION:
DTSTAMP:20260425T163504
DTSTART:20260705T060000
DTEND:20260709T150000
SEQUENCE:0
TRANSP:OPAQUE
END:VEVENT
END:VCALENDAR