BEGIN:VCALENDAR
VERSION:2.0
PRODID:-//jEvents 2.0 for Joomla//EN
CALSCALE:GREGORIAN
METHOD:PUBLISH
BEGIN:VEVENT
UID:703f4790524f582e5f46d17857450fa8
CATEGORIES:Veranstaltungen
CREATED:20251017T105301
SUMMARY:Zeugnisübergabe und Maturafeier Klasse 5a
DESCRIPTION:
DTSTAMP:20260425T150119
DTSTART:20260612T153000
DTEND:20260612T170000
SEQUENCE:0
TRANSP:OPAQUE
END:VEVENT
END:VCALENDAR