BEGIN:VCALENDAR
VERSION:2.0
PRODID:-//jEvents 2.0 for Joomla//EN
CALSCALE:GREGORIAN
METHOD:PUBLISH
BEGIN:VEVENT
UID:652c2757033b66a4e040fe574162a429
CATEGORIES:Veranstaltungen
CREATED:20251017T105222
SUMMARY:Zeugnisübergabe und Maturafeier Klasse 5.HTLa und 5.HTLb
DESCRIPTION:
DTSTAMP:20260425T144757
DTSTART:20260617T153000
DTEND:20260617T170000
SEQUENCE:0
TRANSP:OPAQUE
END:VEVENT
END:VCALENDAR