BEGIN:VCALENDAR
VERSION:2.0
PRODID:-//jEvents 2.0 for Joomla//EN
CALSCALE:GREGORIAN
METHOD:PUBLISH
BEGIN:VEVENT
UID:6ba01afe4db3517712a8fd420e0319ed
CATEGORIES:Veranstaltungen
CREATED:20251017T105115
SUMMARY:Zeugnisübergabe und Maturafeier Klasse 5wa und 5wb
DESCRIPTION:
DTSTAMP:20260425T164108
DTSTART:20260624T153000
DTEND:20260624T170000
SEQUENCE:0
TRANSP:OPAQUE
END:VEVENT
END:VCALENDAR