BEGIN:VCALENDAR
VERSION:2.0
PRODID:-//jEvents 2.0 for Joomla//EN
CALSCALE:GREGORIAN
METHOD:PUBLISH
BEGIN:VEVENT
UID:e6c7e3db122f7f4150290cedc8a950e0
CATEGORIES:Veranstaltungen
CREATED:20251017T104137
SUMMARY:Sprachreise der 4.HLW-Klassen nach Sanremo
DESCRIPTION:
DTSTAMP:20260425T144758
DTSTART:20260607T060000
DTEND:20260612T150000
SEQUENCE:0
TRANSP:OPAQUE
END:VEVENT
END:VCALENDAR