BEGIN:VCALENDAR
VERSION:2.0
PRODID:-//jEvents 2.0 for Joomla//EN
CALSCALE:GREGORIAN
METHOD:PUBLISH
BEGIN:VEVENT
UID:c4797140f9b0af056e001d2c524c7585
CATEGORIES:Veranstaltungen
CREATED:20251017T104027
SUMMARY:Schulautonom frei
DESCRIPTION:
DTSTAMP:20260425T144832
DTSTART:20260605T060000
DTEND:20260605T210000
SEQUENCE:0
TRANSP:OPAQUE
END:VEVENT
END:VCALENDAR