BEGIN:VCALENDAR
VERSION:2.0
PRODID:-//jEvents 2.0 for Joomla//EN
CALSCALE:GREGORIAN
METHOD:PUBLISH
BEGIN:VEVENT
UID:98647b03b181714a9518949a6797180a
CATEGORIES:Veranstaltungen
CREATED:20251017T103959
SUMMARY:Feiertag Fronleichnam
DESCRIPTION:
DTSTAMP:20260425T144835
DTSTART:20260604T060000
DTEND:20260604T210000
SEQUENCE:0
TRANSP:OPAQUE
END:VEVENT
END:VCALENDAR