BEGIN:VCALENDAR
VERSION:2.0
PRODID:-//jEvents 2.0 for Joomla//EN
CALSCALE:GREGORIAN
METHOD:PUBLISH
BEGIN:VEVENT
UID:582e5df663b03c6b8a18e7fdd0ebdb16
CATEGORIES:Termine
CREATED:20180914T155608
SUMMARY:Weihnachtsferien
DESCRIPTION:
DTSTAMP:20260426T052602
DTSTART;VALUE=DATE:20181222
DTEND;VALUE=DATE:20190107
SEQUENCE:0
TRANSP:OPAQUE
END:VEVENT
END:VCALENDAR