BEGIN:VCALENDAR
VERSION:2.0
PRODID:-//jEvents 2.0 for Joomla//EN
CALSCALE:GREGORIAN
METHOD:PUBLISH
BEGIN:VEVENT
UID:2168d46d9b6a5c82730d8e87c8791fd9
CATEGORIES:Veranstaltungen
CREATED:20251017T103605
SUMMARY:Feiertag Christi Himmelfahrt
DESCRIPTION:
DTSTAMP:20260425T131318
DTSTART:20260514T060000
DTEND:20260514T210000
SEQUENCE:0
TRANSP:OPAQUE
END:VEVENT
END:VCALENDAR