BEGIN:VCALENDAR
VERSION:2.0
PRODID:-//jEvents 2.0 for Joomla//EN
CALSCALE:GREGORIAN
METHOD:PUBLISH
BEGIN:VEVENT
UID:7811faff058a66e7079fcfac4cb4d704
CATEGORIES:Veranstaltungen
CREATED:20251017T103320
SUMMARY:Schüleraustausch Reutte in Cles und Saintes
DESCRIPTION:
DTSTAMP:20260425T133747
DTSTART:20260420T060000
DTEND:20260424T150000
SEQUENCE:0
TRANSP:OPAQUE
END:VEVENT
END:VCALENDAR