BEGIN:VCALENDAR
VERSION:2.0
PRODID:-//jEvents 2.0 for Joomla//EN
CALSCALE:GREGORIAN
METHOD:PUBLISH
BEGIN:VEVENT
UID:110cab0fb7d1c9839aef151fa1a6ec42
CATEGORIES:Veranstaltungen
CREATED:20251017T103235
SUMMARY:Elternsprechtag 2.Semester
DESCRIPTION:
DTSTAMP:20260425T115629
DTSTART:20260423T143000
DTEND:20260423T173000
SEQUENCE:0
TRANSP:OPAQUE
END:VEVENT
END:VCALENDAR