BEGIN:VCALENDAR
VERSION:2.0
PRODID:-//jEvents 2.0 for Joomla//EN
CALSCALE:GREGORIAN
METHOD:PUBLISH
BEGIN:VEVENT
UID:734fb8674129f23f4735979f4ba83d02
CATEGORIES:Veranstaltungen
CREATED:20251017T103020
SUMMARY:Cocktailseminar Klasse 3wa und 3wb
DESCRIPTION:
DTSTAMP:20260425T120649
DTSTART:20260414T060000
DTEND:20260414T150000
SEQUENCE:0
TRANSP:OPAQUE
END:VEVENT
END:VCALENDAR