BEGIN:VCALENDAR
VERSION:2.0
PRODID:-//jEvents 2.0 for Joomla//EN
CALSCALE:GREGORIAN
METHOD:PUBLISH
BEGIN:VEVENT
UID:5c508e966933f85e5fabaa58060eb68a
CATEGORIES:Veranstaltungen
CREATED:20251017T102824
SUMMARY:Exkursion der 4.Klassen zur KZ-Gedenkstätte in Dachau
DESCRIPTION:
DTSTAMP:20260425T120552
DTSTART:20260407T060000
DTEND:20260407T150000
SEQUENCE:0
TRANSP:OPAQUE
END:VEVENT
END:VCALENDAR