BEGIN:VCALENDAR
VERSION:2.0
PRODID:-//jEvents 2.0 for Joomla//EN
CALSCALE:GREGORIAN
METHOD:PUBLISH
BEGIN:VEVENT
UID:d284680185960be0d24f45020309227d
CATEGORIES:Veranstaltungen
CREATED:20251017T102720
SUMMARY:Semesterferien
DESCRIPTION:
DTSTAMP:20260425T163707
DTSTART:20260209T070000
DTEND:20260215T160000
SEQUENCE:0
TRANSP:OPAQUE
END:VEVENT
END:VCALENDAR