BEGIN:VCALENDAR
VERSION:2.0
PRODID:-//jEvents 2.0 for Joomla//EN
CALSCALE:GREGORIAN
METHOD:PUBLISH
BEGIN:VEVENT
UID:95e62e7a5ca809418444f82dd2ce6cdb
CATEGORIES:Veranstaltungen
CREATED:20251017T101839
SUMMARY:Osterferien
DESCRIPTION:
DTSTAMP:20260425T115628
DTSTART:20260330T060000
DTEND:20260406T210000
SEQUENCE:0
TRANSP:OPAQUE
END:VEVENT
END:VCALENDAR