BEGIN:VCALENDAR
VERSION:2.0
PRODID:-//jEvents 2.0 for Joomla//EN
CALSCALE:GREGORIAN
METHOD:PUBLISH
BEGIN:VEVENT
UID:9ed02d73c6e0c57ac83205f4c61234e4
CATEGORIES:Veranstaltungen
CREATED:20251017T101622
SUMMARY:Feldtestung Mathematik Klasse 5WB
DESCRIPTION:
DTSTAMP:20260425T152824
DTSTART:20260227T080000
DTEND:20260227T130000
SEQUENCE:0
TRANSP:OPAQUE
END:VEVENT
END:VCALENDAR