BEGIN:VCALENDAR
VERSION:2.0
PRODID:-//jEvents 2.0 for Joomla//EN
CALSCALE:GREGORIAN
METHOD:PUBLISH
BEGIN:VEVENT
UID:0fd4ef478d08a7e14a89752b277f964c
CATEGORIES:Veranstaltungen
CREATED:20251017T101437
SUMMARY:Abgabe der Endfassung der Diplomarbeiten
DESCRIPTION:
DTSTAMP:20260425T144755
DTSTART:20260206T070000
DTEND:20260206T140000
SEQUENCE:0
TRANSP:OPAQUE
END:VEVENT
END:VCALENDAR