BEGIN:VCALENDAR
VERSION:2.0
PRODID:-//jEvents 2.0 for Joomla//EN
CALSCALE:GREGORIAN
METHOD:PUBLISH
BEGIN:VEVENT
UID:777926f43be431138c7695f5cd006660
CATEGORIES:Veranstaltungen
CREATED:20251017T101356
SUMMARY:Beginn Anmeldungen Schuljahr 2026/27
DESCRIPTION:\n
X-ALT-DESC;FMTTYPE=text/html:<p><a href="index.php?option=com_content&amp;view=article&amp;id=80&amp;cat
 id=19">Anmeldung</a></p>
DTSTAMP:20260425T144754
DTSTART:20260206T070000
DTEND:20260227T160000
SEQUENCE:0
TRANSP:OPAQUE
END:VEVENT
END:VCALENDAR