BEGIN:VCALENDAR
VERSION:2.0
PRODID:-//jEvents 2.0 for Joomla//EN
CALSCALE:GREGORIAN
METHOD:PUBLISH
BEGIN:VEVENT
UID:6a50156fde753dabcabe9e5a2592a1c6
CATEGORIES:Veranstaltungen
CREATED:20251017T101309
SUMMARY:Semesterende
DESCRIPTION:
DTSTAMP:20260425T144831
DTSTART:20260206T070000
DTEND:20260206T110000
SEQUENCE:0
TRANSP:OPAQUE
END:VEVENT
END:VCALENDAR