BEGIN:VCALENDAR
VERSION:2.0
PRODID:-//jEvents 2.0 for Joomla//EN
CALSCALE:GREGORIAN
METHOD:PUBLISH
BEGIN:VEVENT
UID:1314b823e8ab138101c3dd7c4ebd8d04
CATEGORIES:Veranstaltungen
CREATED:20251017T101130
SUMMARY:2.Nebentermin RDP 2024/25 mündliche Prüfungen
DESCRIPTION:
DTSTAMP:20260425T145052
DTSTART:20260204T070000
DTEND:20260204T110000
SEQUENCE:0
TRANSP:OPAQUE
END:VEVENT
END:VCALENDAR