BEGIN:VCALENDAR
VERSION:2.0
PRODID:-//jEvents 2.0 for Joomla//EN
CALSCALE:GREGORIAN
METHOD:PUBLISH
BEGIN:VEVENT
UID:7b74da91941db0ce44a45873ebba74d3
CATEGORIES:Veranstaltungen
CREATED:20251017T100716
SUMMARY:Medienworkshop Klasse 5BHWII
DESCRIPTION:
DTSTAMP:20260425T103126
DTSTART:20260112T070000
DTEND:20260112T123000
SEQUENCE:0
TRANSP:OPAQUE
END:VEVENT
END:VCALENDAR