BEGIN:VCALENDAR
VERSION:2.0
PRODID:-//jEvents 2.0 for Joomla//EN
CALSCALE:GREGORIAN
METHOD:PUBLISH
BEGIN:VEVENT
UID:bf70c78136538fd6ebf236cb3b0afdc2
CATEGORIES:Veranstaltungen
CREATED:20251017T100442
SUMMARY:2.Nebentermin RDP 2024/25 BFK
DESCRIPTION:
DTSTAMP:20260425T101735
DTSTART:20260108T070000
DTEND:20260108T120000
SEQUENCE:0
TRANSP:OPAQUE
END:VEVENT
END:VCALENDAR