BEGIN:VCALENDAR
VERSION:2.0
PRODID:-//jEvents 2.0 for Joomla//EN
CALSCALE:GREGORIAN
METHOD:PUBLISH
BEGIN:VEVENT
UID:ba68a8e37c64b521a821ccc31dd1ad77
CATEGORIES:Veranstaltungen
CREATED:20251017T100329
SUMMARY:Projekt KIWI - Kinder entdecken Wirtschaft "Adventsspecial" in der Wirtschaftskammer Reutte
DESCRIPTION:
DTSTAMP:20260425T154058
DTSTART:20251211T070000
DTEND:20251211T111500
SEQUENCE:0
TRANSP:OPAQUE
END:VEVENT
END:VCALENDAR