BEGIN:VCALENDAR
VERSION:2.0
PRODID:-//jEvents 2.0 for Joomla//EN
CALSCALE:GREGORIAN
METHOD:PUBLISH
BEGIN:VEVENT
UID:e2c7e965f09ddf5127321c833231d6a2
CATEGORIES:Veranstaltungen
CREATED:20251017T100032
SUMMARY:Vernetzungstreffen HTL-Lehrer:innen im Metallwerk Plansee
DESCRIPTION:
DTSTAMP:20260425T185645
DTSTART:20251023T080000
DTEND:20251023T090000
SEQUENCE:0
TRANSP:OPAQUE
END:VEVENT
END:VCALENDAR