BEGIN:VCALENDAR
VERSION:2.0
PRODID:-//jEvents 2.0 for Joomla//EN
CALSCALE:GREGORIAN
METHOD:PUBLISH
BEGIN:VEVENT
UID:e8fefd6876b77da4d8536c6a73e9b53c
CATEGORIES:Veranstaltungen
CREATED:20251017T095838
SUMMARY:Generalversammlung Interessentenverein HAK/HTL/HLW
DESCRIPTION:
DTSTAMP:20260425T195003
DTSTART:20251022T133000
DTEND:20251022T140000
SEQUENCE:0
TRANSP:OPAQUE
END:VEVENT
END:VCALENDAR