BEGIN:VCALENDAR
VERSION:2.0
PRODID:-//jEvents 2.0 for Joomla//EN
CALSCALE:GREGORIAN
METHOD:PUBLISH
BEGIN:VEVENT
UID:aea218def896bf0780dff210d1616fdb
CATEGORIES:Veranstaltungen
CREATED:20251007T092253
SUMMARY:Nacht der Projekte in der Wirtschaftskammer Reutte
DESCRIPTION:
DTSTAMP:20260425T133830
DTSTART:20260409T150000
DTEND:20260409T190000
SEQUENCE:0
TRANSP:OPAQUE
END:VEVENT
END:VCALENDAR