BEGIN:VCALENDAR
VERSION:2.0
PRODID:-//jEvents 2.0 for Joomla//EN
CALSCALE:GREGORIAN
METHOD:PUBLISH
BEGIN:VEVENT
UID:afe06e732b69e4e21b9019107cad8182
CATEGORIES:Veranstaltungen
CREATED:20251007T092010
SUMMARY:Beginn des Schuljahres 2026/2027
DESCRIPTION:
DTSTAMP:20260425T195004
DTSTART:20260914T060000
DTEND:20260914T120000
SEQUENCE:0
TRANSP:OPAQUE
END:VEVENT
END:VCALENDAR