BEGIN:VCALENDAR
VERSION:2.0
PRODID:-//jEvents 2.0 for Joomla//EN
CALSCALE:GREGORIAN
METHOD:PUBLISH
BEGIN:VEVENT
UID:5bb03299a55d3aa126aef2a6f50ad75a
CATEGORIES:Veranstaltungen
CREATED:20251007T091931
SUMMARY:Letzter Schultag - Beginn der Sommerferien
DESCRIPTION:
DTSTAMP:20260425T163317
DTSTART:20260710T060000
DTEND:20260710T150000
SEQUENCE:0
TRANSP:OPAQUE
END:VEVENT
END:VCALENDAR