BEGIN:VCALENDAR
VERSION:2.0
PRODID:-//jEvents 2.0 for Joomla//EN
CALSCALE:GREGORIAN
METHOD:PUBLISH
BEGIN:VEVENT
UID:6f074e30906b1dea455ab1e29e79618b
CATEGORIES:Veranstaltungen
CREATED:20251007T091852
SUMMARY:Klassenkonferenz 2.Semester
DESCRIPTION:
DTSTAMP:20260425T163314
DTSTART:20260703T103000
DTEND:20260703T150000
SEQUENCE:0
TRANSP:OPAQUE
END:VEVENT
END:VCALENDAR