BEGIN:VCALENDAR
VERSION:2.0
PRODID:-//jEvents 2.0 for Joomla//EN
CALSCALE:GREGORIAN
METHOD:PUBLISH
BEGIN:VEVENT
UID:aebef7fe7009ccc72170d683ed94f8ad
CATEGORIES:Veranstaltungen
CREATED:20251007T091813
SUMMARY:Noteneintragung 2.Semester
DESCRIPTION:
DTSTAMP:20260425T163241
DTSTART:20260702T060000
DTEND:20260702T160000
SEQUENCE:0
TRANSP:OPAQUE
END:VEVENT
END:VCALENDAR