BEGIN:VCALENDAR
VERSION:2.0
PRODID:-//jEvents 2.0 for Joomla//EN
CALSCALE:GREGORIAN
METHOD:PUBLISH
BEGIN:VEVENT
UID:54b98673bdaa88cb14fb1d77c445702b
CATEGORIES:Veranstaltungen
CREATED:20251007T091737
SUMMARY:Notenschluss 2.Semester
DESCRIPTION:
DTSTAMP:20260425T163238
DTSTART:20260702T060000
DTEND:20260702T120000
SEQUENCE:0
TRANSP:OPAQUE
END:VEVENT
END:VCALENDAR