BEGIN:VCALENDAR
VERSION:2.0
PRODID:-//jEvents 2.0 for Joomla//EN
CALSCALE:GREGORIAN
METHOD:PUBLISH
BEGIN:VEVENT
UID:35cf264f332822c20d03c46f061f89c9
CATEGORIES:Veranstaltungen
CREATED:20251007T091653
SUMMARY:Klassenkonferenz 1.Semester
DESCRIPTION:
DTSTAMP:20260425T144756
DTSTART:20260203T130000
DTEND:20260203T160000
SEQUENCE:0
TRANSP:OPAQUE
END:VEVENT
END:VCALENDAR