BEGIN:VCALENDAR
VERSION:2.0
PRODID:-//jEvents 2.0 for Joomla//EN
CALSCALE:GREGORIAN
METHOD:PUBLISH
BEGIN:VEVENT
UID:7b99d2f2ae1132051fa91689f4e5ccb1
CATEGORIES:Veranstaltungen
CREATED:20251007T091621
SUMMARY:Noteneintragung 1.Semester
DESCRIPTION:
DTSTAMP:20260425T145013
DTSTART:20260202T070000
DTEND:20260202T170000
SEQUENCE:0
TRANSP:OPAQUE
END:VEVENT
END:VCALENDAR