BEGIN:VCALENDAR
VERSION:2.0
PRODID:-//jEvents 2.0 for Joomla//EN
CALSCALE:GREGORIAN
METHOD:PUBLISH
BEGIN:VEVENT
UID:7f4be7cd73e8867aa5e812d078371b05
CATEGORIES:Veranstaltungen
CREATED:20251007T091549
SUMMARY:Notenschluss 1.Semester 
DESCRIPTION:
DTSTAMP:20260425T144835
DTSTART:20260202T070000
DTEND:20260202T130000
SEQUENCE:0
TRANSP:OPAQUE
END:VEVENT
END:VCALENDAR