BEGIN:VCALENDAR
VERSION:2.0
PRODID:-//jEvents 2.0 for Joomla//EN
CALSCALE:GREGORIAN
METHOD:PUBLISH
BEGIN:VEVENT
UID:f6629e46e92ed1e93259e0dbcaa987b9
CATEGORIES:Veranstaltungen
CREATED:20251007T091513
SUMMARY:Letzter Schultag Klassen 3wa und 3wb
DESCRIPTION:
DTSTAMP:20260425T131252
DTSTART:20260529T060000
DTEND:20260529T120000
SEQUENCE:0
TRANSP:OPAQUE
END:VEVENT
END:VCALENDAR