BEGIN:VCALENDAR
VERSION:2.0
PRODID:-//jEvents 2.0 for Joomla//EN
CALSCALE:GREGORIAN
METHOD:PUBLISH
BEGIN:VEVENT
UID:c92feea411b0eb20e9470e6f7bef97d4
CATEGORIES:Prüfungen
CREATED:20251007T091429
SUMMARY:Klassenkonferenz 3wa und 3wb
DESCRIPTION:
DTSTAMP:20260425T131353
DTSTART:20260520T130000
DTEND:20260520T140000
SEQUENCE:0
TRANSP:OPAQUE
END:VEVENT
END:VCALENDAR