BEGIN:VCALENDAR
VERSION:2.0
PRODID:-//jEvents 2.0 for Joomla//EN
CALSCALE:GREGORIAN
METHOD:PUBLISH
BEGIN:VEVENT
UID:a891e1dad79c81e60a00e8630d977611
CATEGORIES:Veranstaltungen
CREATED:20251007T091238
SUMMARY:Noteneintragung Klassen 3wa und 3wb
DESCRIPTION:
DTSTAMP:20260425T131226
DTSTART:20260520T060000
DTEND:20260520T100000
SEQUENCE:0
TRANSP:OPAQUE
END:VEVENT
END:VCALENDAR