BEGIN:VCALENDAR
VERSION:2.0
PRODID:-//jEvents 2.0 for Joomla//EN
CALSCALE:GREGORIAN
METHOD:PUBLISH
BEGIN:VEVENT
UID:41dfb96acaf0a4a1618b17a02e17b839
CATEGORIES:Veranstaltungen
CREATED:20251007T091205
SUMMARY:Notenschluss Klassen 3wa und 3wb
DESCRIPTION:
DTSTAMP:20260425T131250
DTSTART:20260520T060000
DTEND:20260520T100000
SEQUENCE:0
TRANSP:OPAQUE
END:VEVENT
END:VCALENDAR