BEGIN:VCALENDAR
VERSION:2.0
PRODID:-//jEvents 2.0 for Joomla//EN
CALSCALE:GREGORIAN
METHOD:PUBLISH
BEGIN:VEVENT
UID:410fab05425cc7619fcf194818bd86cf
CATEGORIES:Veranstaltungen
CREATED:20251007T091129
SUMMARY:Mündliche Reife- und Diplomprüfungen 2025/26 Klasse 5.HLW
DESCRIPTION:
DTSTAMP:20260425T150721
DTSTART:20260622T060000
DTEND:20260624T150000
SEQUENCE:0
TRANSP:OPAQUE
END:VEVENT
END:VCALENDAR