BEGIN:VCALENDAR
VERSION:2.0
PRODID:-//jEvents 2.0 for Joomla//EN
CALSCALE:GREGORIAN
METHOD:PUBLISH
BEGIN:VEVENT
UID:7f4d39658971e04e1856da86ab703a54
CATEGORIES:Veranstaltungen
CREATED:20251007T091100
SUMMARY:Mündliche Reife- und Diplomprüfungen 2025/26 Klasse 5.HAK
DESCRIPTION:
DTSTAMP:20260425T150646
DTSTART:20260611T060000
DTEND:20260612T130000
SEQUENCE:0
TRANSP:OPAQUE
END:VEVENT
END:VCALENDAR