BEGIN:VCALENDAR
VERSION:2.0
PRODID:-//jEvents 2.0 for Joomla//EN
CALSCALE:GREGORIAN
METHOD:PUBLISH
BEGIN:VEVENT
UID:be9f6edfa3fe76ed145b96992cfb52a0
CATEGORIES:Veranstaltungen
CREATED:20251007T091020
SUMMARY:Mündliche Reife- und Diplomprüfungen 2025/26 Klasse 5.HTL
DESCRIPTION:
DTSTAMP:20260425T150609
DTSTART:20260615T060000
DTEND:20260617T150000
SEQUENCE:0
TRANSP:OPAQUE
END:VEVENT
END:VCALENDAR