BEGIN:VCALENDAR
VERSION:2.0
PRODID:-//jEvents 2.0 for Joomla//EN
CALSCALE:GREGORIAN
METHOD:PUBLISH
BEGIN:VEVENT
UID:2735f6b007325a61ca319bb42a4bd84d
CATEGORIES:Veranstaltungen
CREATED:20251007T090907
SUMMARY:Abgabe der mündlichen Aufgaben RDP 2025/26 Klassen 5.HTL
DESCRIPTION:
DTSTAMP:20260425T163314
DTSTART:20260611T060000
DTEND:20260611T100000
SEQUENCE:0
TRANSP:OPAQUE
END:VEVENT
END:VCALENDAR