BEGIN:VCALENDAR
VERSION:2.0
PRODID:-//jEvents 2.0 for Joomla//EN
CALSCALE:GREGORIAN
METHOD:PUBLISH
BEGIN:VEVENT
UID:319aa4e1c5ca27f74eb22094c7429ffe
CATEGORIES:Veranstaltungen
CREATED:20251007T090841
SUMMARY:Abgabe der mündlichen Aufgaben RDP 2025/26 Klassen 5.HAK
DESCRIPTION:
DTSTAMP:20260425T150252
DTSTART:20260608T060000
DTEND:20260608T100000
SEQUENCE:0
TRANSP:OPAQUE
END:VEVENT
END:VCALENDAR