BEGIN:VCALENDAR
VERSION:2.0
PRODID:-//jEvents 2.0 for Joomla//EN
CALSCALE:GREGORIAN
METHOD:PUBLISH
BEGIN:VEVENT
UID:3ee7b133397708267e88ea695cb20ead
CATEGORIES:Veranstaltungen
CREATED:20251007T090811
SUMMARY:Abgabe der mündlichen Aufgaben RDP 2025/26 Klassen 5.HLW
DESCRIPTION:
DTSTAMP:20260425T150645
DTSTART:20260618T060000
DTEND:20260618T100000
SEQUENCE:0
TRANSP:OPAQUE
END:VEVENT
END:VCALENDAR