BEGIN:VCALENDAR
VERSION:2.0
PRODID:-//jEvents 2.0 for Joomla//EN
CALSCALE:GREGORIAN
METHOD:PUBLISH
BEGIN:VEVENT
UID:0d967492c5408c4fef6c164e2517b9cd
CATEGORIES:Veranstaltungen
CREATED:20251007T090640
SUMMARY:Standardisierte Kompensationsprüfungen RDP 2025/26
DESCRIPTION:
DTSTAMP:20260425T145014
DTSTART:20260602T060000
DTEND:20260603T150000
SEQUENCE:0
TRANSP:OPAQUE
END:VEVENT
END:VCALENDAR