BEGIN:VCALENDAR
VERSION:2.0
PRODID:-//jEvents 2.0 for Joomla//EN
CALSCALE:GREGORIAN
METHOD:PUBLISH
BEGIN:VEVENT
UID:b860f68142529c321ef4df04b13c72c5
CATEGORIES:Veranstaltungen
CREATED:20251007T090607
SUMMARY:Nicht standardisierte Kompensationsprüfungen RDP 2025/26
DESCRIPTION:
DTSTAMP:20260425T144846
DTSTART:20260601T060000
DTEND:20260601T130000
SEQUENCE:0
TRANSP:OPAQUE
END:VEVENT
END:VCALENDAR